BEGIN:VCALENDAR
VERSION:2.0
PRODID:-//CiviCRM//NONSGML CiviEvent iCal//EN
X-WR-TIMEZONE:Europe/London
METHOD:PUBLISH
BEGIN:VTIMEZONE
TZID:Europe/London
BEGIN:DAYLIGHT
TZOFFSETFROM:+0100
TZOFFSETTO:+0100
TZNAME:BST
DTSTART:20260528T100000
END:DAYLIGHT
END:VTIMEZONE
BEGIN:VEVENT
UID:CiviCRM_EventID_4540_b14c861c2ea49c08991d2af184e757e9@www.actiontogether.org.uk
SUMMARY:Safeguarding Adults Level 1 Alerter Training (in T
 ameside)
X-ALT-DESC;FMTTYPE=text/html:<!DOCTYPE HTML PUBLIC
  "-//W3C//DTD HTML 3.2//EN"><html><body><p>Learnin
 g Objectives</p>\n \n <ul>\n 	<li>Describe your sp
 ecific role in responding to concerns\, disclosure
  and allegations of abuse.</li>\n 	<li>Name the te
 n different types of abuse and describe what const
 itutes abuse.</li>\n 	<li>Recognise the possible s
 igns and symptoms of abuse.</li>\n 	<li>List when\
 , how\, and to whom to report suspected abuse.</li
 >\n 	<li>Understand and implement digital safeguar
 ding into your practices.</li>\n </ul>\n \n <p> </
 p></body></html>
DESCRIPTION:Learning Objectives\n \n \n \n \n 	Describe your s
 pecific role in responding to concerns\, disclosur
 e and allegations of abuse.\n 	Name the ten differ
 ent types of abuse and describe what constitutes a
 buse.\n 	Recognise the possible signs and symptoms
  of abuse.\n 	List when\, how\, and to whom to rep
 ort suspected abuse.\n 	Understand and implement d
 igital safeguarding into your practices.\n \n \n  
 \n \n 
CATEGORIES:Training
CALSCALE:GREGORIAN
DTSTAMP;TZID=Europe/London:20260528T100000
DTSTART;TZID=Europe/London:20260528T100000
DTEND;TZID=Europe/London:20260528T130000
URL:https://www.actiontogether.org.uk/civicrm/event/info?reset=1&id=4540
END:VEVENT
END:VCALENDAR
