BEGIN:VCALENDAR
VERSION:2.0
PRODID:-//CiviCRM//NONSGML CiviEvent iCal//EN
X-WR-TIMEZONE:Europe/London
METHOD:PUBLISH
BEGIN:VTIMEZONE
TZID:Europe/London
BEGIN:DAYLIGHT
TZOFFSETFROM:+0100
TZOFFSETTO:+0100
TZNAME:BST
DTSTART:20260521T100000
END:DAYLIGHT
END:VTIMEZONE
BEGIN:VEVENT
UID:CiviCRM_EventID_4539_b14c861c2ea49c08991d2af184e757e9@www.actiontogether.org.uk
SUMMARY:Child Protection Level 1 Training (in Tameside)
X-ALT-DESC;FMTTYPE=text/html:<!DOCTYPE HTML PUBLIC
  "-//W3C//DTD HTML 3.2//EN"><html><body><p><strong
 >By the end of the session participants will be ab
 le to:</strong></p>\n \n <ul>\n 	<li>Identify thei
 r safeguarding role</li>\n 	<li>Explore what is me
 ant by safeguarding and promoting the welfare of c
 hildren and young people</li>\n 	<li>Define abuse 
 and neglect</li>\n 	<li>Know what to do if they ar
 e worried about a child or young person\, includin
 g the referral process</li>\n 	<li>Be aware of saf
 er working practices</li>\n </ul></body></html>
DESCRIPTION:By the end of the session participants will be abl
 e to:\n \n \n \n \n 	Identify their safeguarding r
 ole\n 	Explore what is meant by safeguarding and p
 romoting the welfare of children and young people\
 n 	Define abuse and neglect\n 	Know what to do if 
 they are worried about a child or young person\, i
 ncluding the referral process\n 	Be aware of safer
  working practices\n 
CATEGORIES:Training
CALSCALE:GREGORIAN
DTSTAMP;TZID=Europe/London:20260521T100000
DTSTART;TZID=Europe/London:20260521T100000
DTEND;TZID=Europe/London:20260521T130000
LOCATION:Age UK Tameside\n 131 Katherine Street\n Ashton-un
 der-Lyne\, OL6 7AW\n 
URL:https://www.actiontogether.org.uk/civicrm/event/info?reset=1&id=4539
END:VEVENT
END:VCALENDAR
